BEGIN:VCALENDAR
VERSION:2.0
PRODID:-//Tukios.com/
BEGIN:VEVENT
UID:cf855772-a50a-4f3d-8a19-ccf0a599eeae@www.thompsonfuneral.net
DTSTAMP:20260420T221440Z
DTSTART:20260423T003000Z
DTEND:20260423T013000Z
SUMMARY:Prayer Service
DESCRIPTION:
URL:https://www.thompsonfuneral.net/obituary/carlin-dalton
LOCATION:St. Barbara's Catholic Church 115 E. 3rd St  Powell WY 82435
GEO:44.7559982;-108.7587816
END:VEVENT
END:VCALENDAR