BEGIN:VCALENDAR
VERSION:2.0
PRODID:-//Tukios.com/
BEGIN:VEVENT
UID:7e4521a0-6c02-4348-8d4b-9f13bfa897d9@www.thompsonfuneral.net
DTSTAMP:20260420T221752Z
DTSTART:20260423T170000Z
DTEND:20260423T180000Z
SUMMARY:Mass
DESCRIPTION:
URL:https://www.thompsonfuneral.net/obituary/carlin-dalton
LOCATION:St. Barbara's Catholic Church 115 E. 3rd St  Powell WY 82435
GEO:44.7559982;-108.7587816
END:VEVENT
END:VCALENDAR